BEGIN:VCALENDAR
VERSION:2.0
PRODID:-//ShinTai Akademie - ECPv6.15.20//NONSGML v1.0//EN
CALSCALE:GREGORIAN
METHOD:PUBLISH
X-ORIGINAL-URL:https://shintai-akademie.de
X-WR-CALDESC:Veranstaltungen für ShinTai Akademie
REFRESH-INTERVAL;VALUE=DURATION:PT1H
X-Robots-Tag:noindex
X-PUBLISHED-TTL:PT1H
BEGIN:VTIMEZONE
TZID:Europe/Berlin
BEGIN:DAYLIGHT
TZOFFSETFROM:+0100
TZOFFSETTO:+0200
TZNAME:CEST
DTSTART:20260329T010000
END:DAYLIGHT
BEGIN:STANDARD
TZOFFSETFROM:+0200
TZOFFSETTO:+0100
TZNAME:CET
DTSTART:20261025T010000
END:STANDARD
BEGIN:DAYLIGHT
TZOFFSETFROM:+0100
TZOFFSETTO:+0200
TZNAME:CEST
DTSTART:20270328T010000
END:DAYLIGHT
BEGIN:STANDARD
TZOFFSETFROM:+0200
TZOFFSETTO:+0100
TZNAME:CET
DTSTART:20271031T010000
END:STANDARD
BEGIN:DAYLIGHT
TZOFFSETFROM:+0100
TZOFFSETTO:+0200
TZNAME:CEST
DTSTART:20280326T010000
END:DAYLIGHT
BEGIN:STANDARD
TZOFFSETFROM:+0200
TZOFFSETTO:+0100
TZNAME:CET
DTSTART:20281029T010000
END:STANDARD
END:VTIMEZONE
BEGIN:VEVENT
DTSTART;VALUE=DATE:20270618
DTEND;VALUE=DATE:20270628
DTSTAMP:20260422T064425
CREATED:20211110T164709Z
LAST-MODIFIED:20260421T075503Z
UID:155-1813276800-1814140799@shintai-akademie.de
SUMMARY:Ausbildung - Kurs 4
DESCRIPTION:In diesem Kurs werden voraussichtlich die folgenden Inhalte vermittelt: \n\nMagnetisches Feld\nChakraarbeit\nShiatsu\nClearing\nRückführung\n\nAnreise am Freitag Nachmittag/Abend\, Abreise am Sonntag Nachmittag. \nDieser Kurs ist Teil der ShinTai Ausbildung und kann nicht einzeln gebucht werden. Die Ausbildung umfasst den fortlaufenden Kurs\, der in 6 Teile gegliedert ist. \nAnmeldung
URL:https://shintai-akademie.de/veranstaltung/ausbildung-kurs-4/
LOCATION:Die Bunte vier\, Pretzierer Str.25\, Salzwedel OT Groß Chüden\, 29410\, Deutschland
CATEGORIES:ShinTai Ausbildung
END:VEVENT
END:VCALENDAR